BEGIN:VCALENDAR
VERSION:2.0
PRODID:-//Silent in the Wild - ECPv6.9.0//NONSGML v1.0//EN
CALSCALE:GREGORIAN
METHOD:PUBLISH
X-WR-CALNAME:Silent in the Wild
X-ORIGINAL-URL:https://silentinthewild.nl
X-WR-CALDESC:Evenementen voor Silent in the Wild
REFRESH-INTERVAL;VALUE=DURATION:PT1H
X-Robots-Tag:noindex
X-PUBLISHED-TTL:PT1H
BEGIN:VTIMEZONE
TZID:UTC
BEGIN:STANDARD
TZOFFSETFROM:+0000
TZOFFSETTO:+0000
TZNAME:UTC
DTSTART:20240101T000000
END:STANDARD
END:VTIMEZONE
BEGIN:VEVENT
DTSTART;TZID=UTC:20241103T080000
DTEND;TZID=UTC:20241103T091000
DTSTAMP:20260420T234218
CREATED:20241003T123908Z
LAST-MODIFIED:20241018T043119Z
UID:1583-1730620800-1730625000@silentinthewild.nl
SUMMARY:Silent in the Wild - Buitenplaats Rosenburgh Voorschoten
DESCRIPTION:Je zondag al dansen starten! Dat is toch helemaal heerlijk.\nBuitenplaats Rosenburgh is een fijn stukje natuur verscholen achterin Voorschoten. We starten met een korte wandeling en dansen op een mooie open\, verscholen plek. Kom je ook je zondag dansend inluiden? \n🌱Zondag 3 november 08.00-09.00 uur\n🍁Buitenplaats Rosenburgh (Veurseweg 182)\n✨️€12\,50 per persoon \nMeld je aan door een e-mail of berichtje te sturen!\nAanmelden kan ook via Instagram \nLiefs! \nClarisse \n 
URL:https://silentinthewild.nl/event/silent-in-the-wild-rosenburgh/
LOCATION:Buitenplaats rosenburgh\, Veurseweg 182\, Voorschoten\, 2252AG
ATTACH;FMTTYPE=image/jpeg:https://silentinthewild.nl/wp-content/uploads/2024/10/Rosenburgh.jpg
ORGANIZER;CN="Clarisse Kers":MAILTO:info@silentinthewild.nl
END:VEVENT
END:VCALENDAR