BEGIN:VCALENDAR
VERSION:2.0
PRODID:-//Silent in the Wild - ECPv6.9.0//NONSGML v1.0//EN
CALSCALE:GREGORIAN
METHOD:PUBLISH
X-WR-CALNAME:Silent in the Wild
X-ORIGINAL-URL:https://silentinthewild.nl
X-WR-CALDESC:Evenementen voor Silent in the Wild
REFRESH-INTERVAL;VALUE=DURATION:PT1H
X-Robots-Tag:noindex
X-PUBLISHED-TTL:PT1H
BEGIN:VTIMEZONE
TZID:UTC
BEGIN:STANDARD
TZOFFSETFROM:+0000
TZOFFSETTO:+0000
TZNAME:UTC
DTSTART:20240101T000000
END:STANDARD
END:VTIMEZONE
BEGIN:VEVENT
DTSTART;TZID=UTC:20250128T200000
DTEND;TZID=UTC:20250128T210000
DTSTAMP:20260420T011656
CREATED:20241018T041716Z
LAST-MODIFIED:20250116T135033Z
UID:1776-1738094400-1738098000@silentinthewild.nl
SUMMARY:Silent in the Wild - Adegeest Park
DESCRIPTION:Na een dag kantoortijgeren\, buffelen in de zorg\, sjouwen in de bouw\, thuis met het kroost\, neuzen in de boeken  of elders onmisbaar te zijn geweest\, even die dag eraf dansen. \n\nWe starten met ademoefeningen en kleine bewegingen om het lijf lekker los te maken. De muziek bouwt langzaam op waardoor je tijd hebt om te wennen en mogelijke schroom te laten varen. We horen allemaal dezelfde muziek via onze koptelefoons. Tijdens de sessie begeleid ik je van hoofd naar lijf en samen werken we toe naar ‘even helemaal los’ Als het kan dansen we op onze blote voeten. Voel de muziek en beweeg uit je hoofd en in je lijf! \n\n🌱Iedere dinsdag\n🍁Adegeest Park\, Voorschoten\n✨️€12\,50 per persoon \nMeld je aan door door een e-mail te sturen of boek je ticket via Hipsy\nAanmelden kan ook via Instagram \nLiefs\, \nClarisse
URL:https://silentinthewild.nl/event/silent-in-the-wild-singelpark/
LOCATION:Adegeest park\, Bachlaan 20\, Voorschoten\, Zuid-Holland\, 2253BA\, Netherlands
ATTACH;FMTTYPE=image/jpeg:https://silentinthewild.nl/wp-content/uploads/2024/10/th-2914017990-2.jpg
ORGANIZER;CN="Clarisse Kers":MAILTO:info@silentinthewild.nl
END:VEVENT
BEGIN:VEVENT
DTSTART;TZID=UTC:20241215T193000
DTEND;TZID=UTC:20241215T203000
DTSTAMP:20260420T011656
CREATED:20241015T100834Z
LAST-MODIFIED:20241205T091050Z
UID:1725-1734291000-1734294600@silentinthewild.nl
SUMMARY:Celebrating Full Moon
DESCRIPTION:Zondag 15 december is het weer volle maan en dat gaan we vieren! \nTijdens de volle maan stuurt de maan veel energie naar de aarde. Met haar goddelijke stralen is dit prachtig om te zien\, maar er hangt ook wat tegenover. Je kunt je overdag prikkelbaar en emotioneel voelen en ‘s nachts minder goed slapen. Alles wordt versterkt\, zowel negatieve als positieve gevoelens. Een volle maan staat voor loslaten en transformatie. Wat ga jij loslaten? \nZondag 15 december zetten we de maan in het licht en dansen we met haar mee richting haar volle glorie. Samen vieren we hoe intens we met haar verbonden zijn en dansen we alle stress\, spanning en twijfel letterlijk weg. Dans & vier je mee? \n🌕Zondag 15 december 19.30 – 20.30 uur\n🌲Adegeestpark Voorschoten\n✨️€12\,50 per persoon \nMeld je aan door een e-mail of berichtje te sturen!\nAanmelden kan ook via Instagram \nLiefs! \nClarisse
URL:https://silentinthewild.nl/event/celebrating-full-moon/
LOCATION:Adegeest park\, Bachlaan 20\, Voorschoten\, Zuid-Holland\, 2253BA\, Netherlands
ATTACH;FMTTYPE=image/jpeg:https://silentinthewild.nl/wp-content/uploads/2024/10/Volle-maan.jpg
ORGANIZER;CN="Clarisse Kers":MAILTO:info@silentinthewild.nl
END:VEVENT
BEGIN:VEVENT
DTSTART;TZID=UTC:20241103T080000
DTEND;TZID=UTC:20241103T091000
DTSTAMP:20260420T011656
CREATED:20241003T123908Z
LAST-MODIFIED:20241018T043119Z
UID:1583-1730620800-1730625000@silentinthewild.nl
SUMMARY:Silent in the Wild - Buitenplaats Rosenburgh Voorschoten
DESCRIPTION:Je zondag al dansen starten! Dat is toch helemaal heerlijk.\nBuitenplaats Rosenburgh is een fijn stukje natuur verscholen achterin Voorschoten. We starten met een korte wandeling en dansen op een mooie open\, verscholen plek. Kom je ook je zondag dansend inluiden? \n🌱Zondag 3 november 08.00-09.00 uur\n🍁Buitenplaats Rosenburgh (Veurseweg 182)\n✨️€12\,50 per persoon \nMeld je aan door een e-mail of berichtje te sturen!\nAanmelden kan ook via Instagram \nLiefs! \nClarisse \n 
URL:https://silentinthewild.nl/event/silent-in-the-wild-rosenburgh/
LOCATION:Buitenplaats rosenburgh\, Veurseweg 182\, Voorschoten\, 2252AG
ATTACH;FMTTYPE=image/jpeg:https://silentinthewild.nl/wp-content/uploads/2024/10/Rosenburgh.jpg
ORGANIZER;CN="Clarisse Kers":MAILTO:info@silentinthewild.nl
END:VEVENT
END:VCALENDAR